BEGIN:VCALENDAR
VERSION:2.0
PRODID:-//ChamberMaster//Event Calendar 2.0//EN
METHOD:PUBLISH
X-PUBLISHED-TTL:P3D
REFRESH-INTERVAL:P3D
CALSCALE:GREGORIAN
BEGIN:VEVENT
DTSTART:20240822T010000Z
DTEND:20240822T020000Z
X-MICROSOFT-CDO-ALLDAYEVENT:FALSE
SUMMARY:Honoring Our Heroes: The Impact of Vet Tix on Military Families
DESCRIPTION:On August 21\, 2024\, Steve Weintraub\, Chief Strategy Officer\, Vet Tix\, will present to the Satellite Rotary Club of Military Family Support on Honoring Our Heroes: The Impact of Vet Tix on Military Families.\n\n \n\nEmail SanDimasRotary@gmail.com for Zoom link. \n\n \n\nVet Tix is a charitable organization dedicated to honoring and supporting our service members and veterans by providing them with free tickets to various events nationwide. These tickets serve to reduce stress\, strengthen family bonds\, and create lasting memories for those who have served our country.\n\n \n\nThe organization extends its support to all branches of currently-serving military personnel and veterans\, including the immediate family members of troops killed in action. Through Vet Tix\, service members and veterans can access tickets to a wide range of events\, including sporting events\, concerts\, performing arts\, educational activities\, and family outings.
X-ALT-DESC;FMTTYPE=text/html:<span style="font-family:times new roman\,serif"><span style="font-size:12.0pt">On August 21\, 2024\, Steve Weintraub\, Chief Strategy Officer\, Vet Tix\, will present to the Satellite Rotary Club of Military Family Support on Honoring Our Heroes: The Impact of Vet Tix on Military Families.</span></span><br />\n&nbsp\;<br />\n<span style="font-family:times new roman\,serif"><span style="font-size:12.0pt">Email </span></span><a href="mailto:SanDimasRotary@gmail.com"><span style="font-family:times new roman\,serif"><span style="font-size:12.0pt">SanDimasRotary@gmail.com</span></span></a><span style="font-family:times new roman\,serif"><span style="font-size:12.0pt"> for Zoom link. </span></span><br />\n&nbsp\;<br />\n<span style="font-family:times new roman\,serif"><span style="font-size:12.0pt">Vet Tix is a charitable organization dedicated to honoring and supporting our service members and veterans by providing them with free tickets to various events nationwide. These tickets serve to reduce stress\, strengthen family bonds\, and create lasting memories for those who have served our country.</span></span><br />\n&nbsp\;<br />\n<span style="font-family:times new roman\,serif"><span style="font-size:12.0pt">The organization extends its support to all branches of currently-serving military personnel and veterans\, including the immediate family members of troops killed in action. Through Vet Tix\, service members and veterans can access tickets to a wide range of events\, including sporting events\, concerts\, performing arts\, educational activities\, and family outings.</span></span><br />\n&nbsp\;
LOCATION:
UID:e.1389.5481
SEQUENCE:3
DTSTAMP:20260425T200723Z
URL:http://chambermaster.sandimaschamber.org/events/details/honoring-our-heroes-the-impact-of-vet-tix-on-military-families-5481
END:VEVENT

END:VCALENDAR
