BEGIN:VCALENDAR
VERSION:2.0
PRODID:-//ChamberMaster//Event Calendar 2.0//EN
METHOD:PUBLISH
X-PUBLISHED-TTL:P3D
REFRESH-INTERVAL:P3D
CALSCALE:GREGORIAN
BEGIN:VEVENT
DTSTART:20260805T190000Z
DTEND:20260805T200000Z
X-MICROSOFT-CDO-ALLDAYEVENT:FALSE
SUMMARY:Improv for Life\, Leadership\, and Communication Skills
DESCRIPTION:On August 5\, 2026\, at 12:00 Noon via Zoom\, the Rotary Club of San Dimas will welcome Josh Heimendinger for a dynamic and interactive presentation:\n\n\n\nImprov for Life\, Leadership\, and Communication Skills\n\n\n\nWhat do improv performers and effective leaders have in common? They both succeed without a script.\n\nIn this engaging session\, Josh will introduce Rotarians to the power of applied improvisation translating skills from the stage into real-world leadership\, communication\, and teamwork. Through a blend of short demonstrations\, light (optional) participation\, and practical takeaways\, attendees will discover how simple mindset shifts like building on ideas instead of blocking them\, and listening to understand rather than respond can transform the way we lead and connect.\n\n\n\nJosh's journey began in the cybersecurity field\, where uncertainty and high-pressure situations often left him second-guessing himself. After discovering improv comedy in 2014\, he experienced a profound shift becoming more adaptable\, confident\, and effective in his professional interactions. What started on stage quickly translated into real-world success.\n\n\n\nRotarians will leave this presentation with tools they can immediately apply to strengthen communication\, foster collaboration\, and lead with greater confidence no script required.\n\n\n\nEmail SanDimasRotary@Gmail.com for Zoom link.
X-ALT-DESC;FMTTYPE=text/html:<span style="font-family:times new roman\,serif"><span style="font-size:12.0pt">On August 5\, 2026\, at 12:00 Noon via Zoom\, the Rotary Club of San Dimas will welcome Josh Heimendinger for a dynamic and interactive presentation:</span></span><br />\n<br />\n<strong><span style="font-family:times new roman\,serif"><span style="font-size:12.0pt">Improv for Life\, Leadership\, and Communication Skills</span></span></strong><br />\n<br />\n<span style="font-family:times new roman\,serif"><span style="font-size:12.0pt">What do improv performers and effective leaders have in common? They both succeed without a script.</span></span><br />\n<span style="font-family:times new roman\,serif"><span style="font-size:12.0pt">In this engaging session\, Josh will introduce Rotarians to the power of applied improvisation&mdash\;translating skills from the stage into real-world leadership\, communication\, and teamwork. Through a blend of short demonstrations\, light (optional) participation\, and practical takeaways\, attendees will discover how simple mindset shifts&mdash\;like building on ideas instead of blocking them\, and listening to understand rather than respond&mdash\;can transform the way we lead and connect.</span></span><br />\n<br />\n<span style="font-family:times new roman\,serif"><span style="font-size:12.0pt">Josh&rsquo\;s journey began in the cybersecurity field\, where uncertainty and high-pressure situations often left him second-guessing himself. After discovering improv comedy in 2014\, he experienced a profound shift&mdash\;becoming more adaptable\, confident\, and effective in his professional interactions. What started on stage quickly translated into real-world success.</span></span><br />\n<br />\n<span style="font-family:times new roman\,serif"><span style="font-size:12.0pt">Rotarians will leave this presentation with tools they can immediately apply to strengthen communication\, foster collaboration\, and lead with greater confidence&mdash\;no script required.</span></span><br />\n<br />\n<span style="font-family:times new roman\,serif"><span style="font-size:12.0pt">Email <a href="mailto:SanDimasRotary@Gmail.com">SanDimasRotary@Gmail.com</a> for Zoom link.</span></span><br />\n&nbsp\;
LOCATION:
UID:e.1389.6543
SEQUENCE:3
DTSTAMP:20260425T035432Z
URL:http://chambermaster.sandimaschamber.org/events/details/improv-for-life-leadership-and-communication-skills-6543
END:VEVENT

END:VCALENDAR
