BEGIN:VCALENDAR
VERSION:2.0
PRODID:-//ChamberMaster//Event Calendar 2.0//EN
METHOD:PUBLISH
X-PUBLISHED-TTL:P3D
REFRESH-INTERVAL:P3D
CALSCALE:GREGORIAN
BEGIN:VEVENT
DTSTART:20260902T190000Z
DTEND:20260902T200000Z
X-MICROSOFT-CDO-ALLDAYEVENT:FALSE
SUMMARY:The Wisdom of Walt: Leadership Lessons from the Happiest Place on Earth
DESCRIPTION:Wednesday\, September 2\, 2026 | 12:00 Noon | Zoom Presentation\n\n\n\nThe Wisdom of Walt: Leadership Lessons from the Happiest Place on Earth\n\n\n\nWhat can one man's dream of an impossible theme park teach us about leadership\, perseverance\, and achieving extraordinary goals?\n\n\n\nOn September 2\, the Rotary Club of San Dimas welcomes Dr. Jeffrey A. Barnes bestselling author\, leadership coach\, and one of the foremost authorities on Walt Disney for an inspiring and practical presentation on turning vision into reality.\n\n\n\nA former Rotarian and current Dean at California Baptist University\, Dr. Barnes is the creator of the wildly popular college course The Life and Lessons of Walt Disney and author of two bestselling books on Disney's philosophy of success. Through years of research and storytelling\, he has uncovered not just what Walt Disney accomplished but why he succeeded when others doubted him.\n\n\n\nIn this engaging program\, Dr. Barnes blends the nostalgia and magic of Disneyland with powerful\, real-world leadership principles. Rotarians will discover how Walt Disney overcame adversity\, challenged conventional thinking\, and built something the world had never seen lessons that remain just as relevant for today's leaders\, entrepreneurs\, and community builders.\n\n\n\nParticipants will walk away with actionable insights\, including how to:\n\n\n	Turn bold ideas into achievable goals\n	Build meaningful\, memorable experiences for others\n	Lead with vision\, creativity\, and resilience\n	Move from being a dreamer to becoming a doer\n\nWhether you're a lifelong Disney fan or simply looking to elevate your leadership and impact\, this presentation will leave you inspired to think bigger\, lead better\, and create your own "E-ticket" experiences in life and service.\n\n\n\nJoin us for a program that proves the magic isn't just in the park it's in the way we lead\, serve\, and pursue our dreams.\n\n\n\nEmail SanDimasRotary@gmail.com for Zoom link.
X-ALT-DESC;FMTTYPE=text/html:<strong><span style="font-family:times new roman\,serif"><span style="font-size:12.0pt">Wednesday\, September 2\, 2026 | 12:00 Noon | Zoom Presentation</span></span></strong><br />\n<br />\n<strong><span style="font-family:times new roman\,serif"><span style="font-size:12.0pt">The Wisdom of Walt: Leadership Lessons from the Happiest Place on Earth</span></span></strong><br />\n<br />\n<span style="font-family:times new roman\,serif"><span style="font-size:12.0pt">What can one man&rsquo\;s dream of an impossible theme park teach us about leadership\, perseverance\, and achieving extraordinary goals?</span></span><br />\n<br />\n<span style="font-family:times new roman\,serif"><span style="font-size:12.0pt">On September 2\, the Rotary Club of San Dimas welcomes Dr. Jeffrey A. Barnes&mdash\;bestselling author\, leadership coach\, and one of the foremost authorities on Walt Disney&mdash\;for an inspiring and practical presentation on turning vision into reality.</span></span><br />\n<br />\n<span style="font-family:times new roman\,serif"><span style="font-size:12.0pt">A former Rotarian and current Dean at California Baptist University\, Dr. Barnes is the creator of the wildly popular college course <em>The Life and Lessons of Walt Disney</em> and author of two bestselling books on Disney&rsquo\;s philosophy of success. Through years of research and storytelling\, he has uncovered not just what Walt Disney accomplished&mdash\;but <em>why</em> he succeeded when others doubted him.</span></span><br />\n<br />\n<span style="font-family:times new roman\,serif"><span style="font-size:12.0pt">In this engaging program\, Dr. Barnes blends the nostalgia and magic of Disneyland with powerful\, real-world leadership principles. Rotarians will discover how Walt Disney overcame adversity\, challenged conventional thinking\, and built something the world had never seen&mdash\;lessons that remain just as relevant for today&rsquo\;s leaders\, entrepreneurs\, and community builders.</span></span><br />\n<br />\n<span style="font-family:times new roman\,serif"><span style="font-size:12.0pt">Participants will walk away with actionable insights\, including how to:</span></span>\n\n<ul>\n	<li><span style="font-family:times new roman\,serif"><span style="font-size:12.0pt">Turn bold ideas into achievable goals</span></span></li>\n	<li><span style="font-family:times new roman\,serif"><span style="font-size:12.0pt">Build meaningful\, memorable experiences for others</span></span></li>\n	<li><span style="font-family:times new roman\,serif"><span style="font-size:12.0pt">Lead with vision\, creativity\, and resilience</span></span></li>\n	<li><span style="font-family:times new roman\,serif"><span style="font-size:12.0pt">Move from being a dreamer to becoming a doer</span></span></li>\n</ul>\n<span style="font-family:times new roman\,serif"><span style="font-size:12.0pt">Whether you&rsquo\;re a lifelong Disney fan or simply looking to elevate your leadership and impact\, this presentation will leave you inspired to think bigger\, lead better\, and create your own &ldquo\;E-ticket&rdquo\; experiences in life and service.</span></span><br />\n<br />\n<span style="font-family:times new roman\,serif"><span style="font-size:12.0pt">Join us for a program that proves the magic isn&rsquo\;t just in the park&mdash\;it&rsquo\;s in the way we lead\, serve\, and pursue our dreams.</span></span><br />\n<br />\n<span style="font-family:times new roman\,serif"><span style="font-size:12.0pt">Email <a href="mailto:SanDimasRotary@gmail.com">SanDimasRotary@gmail.com</a> for Zoom link.</span></span><br />\n&nbsp\;<br />\n&nbsp\;
LOCATION:
UID:e.1389.6541
SEQUENCE:3
DTSTAMP:20260420T044435Z
URL:http://chambermaster.sandimaschamber.org/events/details/the-wisdom-of-walt-leadership-lessons-from-the-happiest-place-on-earth-6541
END:VEVENT

END:VCALENDAR
