BEGIN:VCALENDAR
VERSION:2.0
PRODID:-//ChamberMaster//Event Calendar 2.0//EN
METHOD:PUBLISH
X-PUBLISHED-TTL:P3D
REFRESH-INTERVAL:P3D
CALSCALE:GREGORIAN
BEGIN:VEVENT
DTSTART:20251024T010000Z
DTEND:20251024T030000Z
X-MICROSOFT-CDO-ALLDAYEVENT:FALSE
SUMMARY:Distinguished Car Night - October 2025
DESCRIPTION:Distinguished Car Night\n\n\n\nHosted by Jim of Distinguished Detailing at Bonita Car Wash\, San Dimas\n\nCar nights are all about community sharing your love of cars\, learning from others\, and connecting with great people. Distinguished Detailing is bringing that spirit to San Dimas!\n\nJoin us for an evening of beautiful cars\, friendly faces\, and a chance to celebrate our amazing community.\n\n?Opportunities to support local nonprofits through 50/50 cash drawing.\n\nFor October we are asking everyone to donate individually packed Hot wheel Cars. For every car you donate you will receive an entry into a drawing for a prize.
X-ALT-DESC;FMTTYPE=text/html:<p><strong>Distinguished Car Night</strong><br />\n<br />\nHosted by Jim of&nbsp\;<strong>Distinguished Detailing</strong>&nbsp\;at&nbsp\;<strong>Bonita Car Wash\, San Dimas</strong></p>\n\n<p>Car nights are all about community&mdash\;sharing your love of cars\, learning from others\, and connecting with great people. Distinguished Detailing is bringing that spirit to San Dimas!</p>\n\n<p>Join us for an evening of beautiful cars\, friendly faces\, and a chance to celebrate our amazing community.</p>\n\n<div>?<span style="color:rgb(51\, 51\, 51)\; font-family:sans-serif\,arial\,verdana\,trebuchet ms\; font-size:13px">Opportunities to support local nonprofits through 50/50 cash drawing.</span></div>\n\n<p>For October we are asking everyone to donate individually packed Hot wheel Cars. For every car you donate you will receive an entry into a drawing for a prize.&nbsp\;</p>\n
LOCATION:Bonita Car Wash\, San Dimas 555 West Bonita Ave San Dimas\, 91773
UID:e.1389.6441
SEQUENCE:3
DTSTAMP:20260420T170244Z
URL:https://chambermaster.sandimaschamber.org/events/details/distinguished-car-night-october-2025-6441
END:VEVENT

END:VCALENDAR
